BEGIN:VCALENDAR
VERSION:2.0
PRODID:-//Digital Creators Network - ECPv6.15.20//NONSGML v1.0//EN
CALSCALE:GREGORIAN
METHOD:PUBLISH
X-ORIGINAL-URL:https://digitalcreatorsnetwork.com
X-WR-CALDESC:Events for Digital Creators Network
REFRESH-INTERVAL;VALUE=DURATION:PT1H
X-Robots-Tag:noindex
X-PUBLISHED-TTL:PT1H
BEGIN:VTIMEZONE
TZID:Europe/London
BEGIN:DAYLIGHT
TZOFFSETFROM:+0000
TZOFFSETTO:+0100
TZNAME:BST
DTSTART:20240331T010000
END:DAYLIGHT
BEGIN:STANDARD
TZOFFSETFROM:+0100
TZOFFSETTO:+0000
TZNAME:GMT
DTSTART:20241027T010000
END:STANDARD
BEGIN:DAYLIGHT
TZOFFSETFROM:+0000
TZOFFSETTO:+0100
TZNAME:BST
DTSTART:20250330T010000
END:DAYLIGHT
BEGIN:STANDARD
TZOFFSETFROM:+0100
TZOFFSETTO:+0000
TZNAME:GMT
DTSTART:20251026T010000
END:STANDARD
BEGIN:DAYLIGHT
TZOFFSETFROM:+0000
TZOFFSETTO:+0100
TZNAME:BST
DTSTART:20260329T010000
END:DAYLIGHT
BEGIN:STANDARD
TZOFFSETFROM:+0100
TZOFFSETTO:+0000
TZNAME:GMT
DTSTART:20261025T010000
END:STANDARD
BEGIN:DAYLIGHT
TZOFFSETFROM:+0000
TZOFFSETTO:+0100
TZNAME:BST
DTSTART:20270328T010000
END:DAYLIGHT
BEGIN:STANDARD
TZOFFSETFROM:+0100
TZOFFSETTO:+0000
TZNAME:GMT
DTSTART:20271031T010000
END:STANDARD
END:VTIMEZONE
BEGIN:VTIMEZONE
TZID:+00:00
END:VTIMEZONE
BEGIN:VEVENT
DTSTART;TZID=Europe/London:20260316T000000
DTEND;TZID=Europe/London:20260319T000000
DTSTAMP:20260426T015843
CREATED:20260120T154855Z
LAST-MODIFIED:20260304T154223Z
UID:10000027-1773619200-1773878400@digitalcreatorsnetwork.com
SUMMARY:NVIDIA GTC AI Conference
DESCRIPTION:NVIDIA GTC is the premier global AI conference\, where developers\, researchers\, and business leaders come together to explore the next wave of AI innovation. From physical AI and AI factories to agentic AI and inference\, GTC 2026 will showcase the breakthroughs shaping every industry. Join us in venues throughout downtown San Jose for inspiring sessions\, hands-on training\, and opportunities to connect with experts and peers—and be part of the unique GTC experience. Features Jensen Huang’s keynote\, AI talks and panels\, learning and training sessions\, developer days and hackathons\, networking opportunities\, and rising startup showcases. \n\nOriginal event page: https://www.nvidia.com/gtc/
URL:https://digitalcreatorsnetwork.com/event/nvidia-gtc-ai-conference/
CATEGORIES:AI,Virtual
ATTACH;FMTTYPE=image/jpeg:https://digitalcreatorsnetwork.com/wp-content/uploads/2026/01/gtc26-og-session-catalog-1200x630-1.jpg
END:VEVENT
BEGIN:VEVENT
DTSTART;TZID=Europe/London:20260312T090000
DTEND;TZID=Europe/London:20260331T170000
DTSTAMP:20260426T015843
CREATED:20260130T162728Z
LAST-MODIFIED:20260304T153532Z
UID:10000030-1773306000-1774976400@digitalcreatorsnetwork.com
SUMMARY:Skills Futures: critical AI skills for high-impact film producing
DESCRIPTION:AI isn’t the future\, it’s the now. Forward-thinking film producers are already harnessing its power; the gap between those armed and able to leverage responsible AI in practical and creative ways and those left behind is widening fast! \nSkills Futures: critical AI skills for high-impact film producing tackles the industry’s critical training void in AI head-on. Purpose-built for UK freelance film producers\, this intensive hands-on programme delivers what the sector desperately needs: inspiration plus practical and creative AI mastery you can apply with confidence immediately. \nReal-World Application at the Core\nThis programme is centred on real-world experience of AI use in film producing (pros and cons). It’s applied technology referencing actual industry practice as experienced by Final Pixel working at the cutting edge of technology\, and relevant examples from other film studios. We’re arming you (not alarming you) with the knowledge of if\, when\, and how to use AI in film production and distribution pipelines\, taking into consideration legal\, ethical\, and sustainability contexts. \nYou’ll learn how to confidently discuss the impact and opportunity of AI\, with talent\, with commissioners and buyers\, post-production houses\, and colleagues keen to understand the use of AI across all production roles. One of our key learning objectives is to ensure you are equipped to advocate for creative and practical AI use where it brings genuine added value and innovation—and to know when to push for change and when not to. \nThis course is being delivered through a partnership between Royal Holloway University of London’s StoryFutures (reputation for delivering high quality and inclusive training in use of immersive technologies to over 1400 creative industry professionals) and Final Pixel (award-winning entertainment studio). \nThis course is part-funded by the ScreenSkills Film Skills Fund with contributions from UK film productions. \nWho it’s for\nSkills Futures (a StoryFutures -at Royal Holloway University of London\,  and Final Pixel initiative) offers 16-20 places to film freelancers\, specifically established producers with three to five years’ experience in singles\, broadcasts or streamer\, theatrical release\, series\, or scripted feature films. The stackable programme is made up of in-person full days and ‘micro modules’ delivered online. \nThis is a nationwide programme and we welcome applications from across the UK.  \nWe always welcome applications from under-represented groups\, including\, but not limited to: those from minority ethnic backgrounds; people with a disability; people from the LGBTQ+ community and those from lower socio-economic backgrounds. \nWe offer inclusive training. If you have any needs which we can accommodate during the recruitment process and beyond\, or would like support completing the booking form and/or would like us to send it to you in an alternative format\, please email: Helen.ONeill@rhul.ac.uk \nThere is a small allowance for access costs for successful candidates to ensure participants get the most from the programme. Details of this funding can be discussed with the training provider once accepted onto the programme\, and will be assessed on an individual basis. \nWhat it covers\nIn 32 transformative hours\, you will get hands-on to learn practical and creative AI skills that revolutionise how to work and thrive in the evolving digital era. Recognising the priority for producers to break down creative briefs and scripts into storyboards\, film schedules\, and workable budgets\, we’ll provide samples as starting points. \nThe programme will take you from AI 101—demystifying artificial intelligence—through to how to creatively and practically storyboard\, breakdown\, budget\, schedule\, pitch\, and scale a film idea using a range of AI tools\, workflows\, and pipelines. You will be able to quickly apply tools like Claude and other AI platforms to your actual job functions. From this foundation\, masterclasses and workshops will elevate your understanding—teaching you how to enhance creative vision with AI\, create assets efficiently\, and understand their impact on the production pipeline (timelines\, costs\, and workflow effects). \nLearning Progression:\n\nWeek 1: in-person robust foundational AI skills\, introduction to a broad range of tools and workflows\, VP demos and inspirational AI-led use cases and teamwork (e.g.\, VP suite and 2 x cutting-edge demos)\nWeek 2: online masterclasses from top tier industry experts for enrichment and media generation\, hands on application of AI tools and pipelines (e.g.\, 3D object generation\, animation\, video generation\, dramatised voice generation (script + narration)\, budget/schedule optimisation with AI)\nWeeks 3: interactive online workshop for hands-on project development\, deepening AI skills (e.g.\, concept development\, remote project workshops\, producing early assets: concept art\, draft scripts\, first-pass pitch deck\, agreement on final project direction)\nWeek 4: in-person\, on-set at Futures Studio for delivery of creative AI playbook/pitch with industry and peer feedback (e.g. teams use AI tools to complete pitch decks/playbooks\, live pitches to industry stakeholders with feedback and peer review\, discussion of future opportunities and roles\n\nHow to apply\nThis course runs from 12 March – 31 March 2026 and will be delivered partly in-person and partly online. \nIn-person sessions will take place at the cutting edge Futures Studio @Royal Holloway University of London\, Egham\, Surrey TW20. \n\nThursday 12 March\nTuesday 31 March\n\nOther sessions will be delivered online (dates and times TBC) \nMasterclasses \n\nLegal\, ethical and industry standards – (date/time TBC)\n2D gen AI creation and 3D Gen AI workshops – (date/time TBC)\nVideo and animation Gen AI workshops – (date/time TBC)\nMusic and dramatised voice Gen AI workshops – (date/time TBC)\n\nOnline interactive workshops: 2 x double workshop sessions each week  (dates and times TBC) \n\ncreative development\npractical development inc pipeline development and pitch preparation \n\nContact information\nName: Helen O’NeillEmail: Helen.ONeill@rhul.ac.uk \n\nOriginal event page: https://www.screenskills.com/bookings/skills-futures-critical-ai-skills-for-high-impact-film-producing/
URL:https://digitalcreatorsnetwork.com/event/skills-futures-critical-ai-skills-for-high-impact-film-producing/
LOCATION:Royal Holloway University of London\, Futures Studio\, Egham\, Surrey\, TW20\, United Kingdom
CATEGORIES:AI,In person,Virtual
ATTACH;FMTTYPE=image/jpeg:https://digitalcreatorsnetwork.com/wp-content/uploads/2026/01/792c37e1-d67e-4230-bd36-c78b9b4e67fb-pic-conjuringblue3.jpg
END:VEVENT
BEGIN:VEVENT
DTSTART;TZID=Europe/London:20260303T120000
DTEND;TZID=Europe/London:20260303T133000
DTSTAMP:20260426T015843
CREATED:20260116T115954Z
LAST-MODIFIED:20260116T115957Z
UID:10000025-1772539200-1772544600@digitalcreatorsnetwork.com
SUMMARY:What AI says about your brand - and why it matters
DESCRIPTION:As more buyers turn to AI models like ChatGPT\, Claude and Gemini to research vendors\, the way brands earn visibility is changing fast. Traditional search is being replaced by single\, AI-generated answers. And in that shift\, PR and earned media have become core drivers of visibility and growth. In this session\, we’ll explore what this shift means for your brand: What LLMs actually say about your brand (and your competitors)\, How AI models choose who to recommend – and why media mentions matter\, Why PR is now central to brand visibility in AI search\, What ‘good signals’ look like in a world of LLMs and auto-generated shortlists\, How to operationalise comms (PR-ops) to influence the right outcomes. We’ll also share new data from over 100\,000 buyer-intent AI prompts – including which sources influence AI responses the most. If you’re a comms leader or a founder and want to understand your brand’s place in an AI-driven buying journey\, this session is for you. \n\nOriginal event page: https://www.pro-manchester.co.uk/event/what-ai-says-about-your-brand-and-why-it-matters/
URL:https://digitalcreatorsnetwork.com/event/what-ai-says-about-your-brand-and-why-it-matters/
LOCATION:Glaisyers ETL\, 3 Hardman Street\, Manchester\, M3 3HF\, United Kingdom
CATEGORIES:AI,In person
ATTACH;FMTTYPE=image/png:https://digitalcreatorsnetwork.com/wp-content/uploads/2026/01/Pro-manchester_HotTopic_Icons-07.png
END:VEVENT
BEGIN:VEVENT
DTSTART;TZID=Europe/London:20260226T100000
DTEND;TZID=Europe/London:20260226T160000
DTSTAMP:20260426T015843
CREATED:20260210T103033Z
LAST-MODIFIED:20260210T103036Z
UID:10000031-1772100000-1772121600@digitalcreatorsnetwork.com
SUMMARY:Build an AI Workflow That Saves You Time as a Founder
DESCRIPTION:Learn how to use multiple AI tools together to produce business materials faster\, from research and proposals to media and product conceptAs a founder\, you probably do not need another introduction to AI. You need a dependable way to use it inside the work you already do. This session is built around a simple question: how do you move from an early idea to pitch-ready materials without losing days to fragmented tools and half-finished outputs? Over the workshop\, we will take a shared business challenge and work through an end-to-end workflow that founders can reuse. You will see how to move from idea framing to research\, then into structured writing\, then into pitch content\, then into supporting assets. The goal is not to “learn tools” in isolation\, but to understand how outputs from one stage can become inputs for the next. You will leave with a clearer process for turning thinking into materials you can use: proposal language\, positioning\, pitch structure\, and content building blocks you can adapt to your business.This session would be led by Simon Benson from Talent for Tech\, a specialist technology consultancy who help to augment your business with their world-class expertise\, helping you to safely navigate the ever-evolving world of technology and deliver your project with confidence. What you will do in the sessionDuring the workshop\, you will work through a guided sequence that covers:Turning a rough idea into a clear problem\, audience\, and outcome statementProducing a first draft of positioning and value proposition languageGenerating a structured outline for a proposal or pitch narrativeTranslating that narrative into a pitch deck structure and slide copyCreating supporting content formats (one-pager\, web copy outline\, short-form content angles)Understanding how to move between tools without breaking the workflowSpotting where AI is useful\, and where founder judgement is still essentialThis is a working session with guided prompts and live build-throughWhat you will leave withA repeatable “idea-to-pitch” workflow you can apply to your own businessA set of structured templates and prompt patterns that support each stageDraft materials created during the session that you can adapt immediatelyClearer confidence in selecting tools for specific tasks.Who should attendThis session is designed for people who are actively building and need materials that help them sell\, fund\, partner\, or hire:Bring a business challenge (e.g. “We struggle to explain X / get people to care about Y”).Experience a curated set of examples across different settings and sectors.Map what could work for your organisation (with guided prompts and discussion).Identify what’s realistic now vs later.If selected for the next step: your brief can be taken to a team of artists to create a rapid demo concept.What you’ll leave withBy the end\, you’ll have:Founders\, co-founders and business ownersProduct-led service businesses and digital product teamsEarly-stage to scaling businesses based in Greater ManchesterPeople with decision-making authority inside their organisationThis is a guided workshop for Greater Manchester founders to turn ideas into pitch-ready materials using a connected AI tool workflow  funded by MediaCity Immersive Technologies Innovation Hub. Register NowIf this sounds familiar:You’ve tested ChatGPT and other AI tools\, but they’re not part of your daily workflowYou’re still starting from scratch on proposals\, content\, and planning docsYou know AI could save time\, you just haven’t made it practical yet…then this session is built for you.
URL:https://digitalcreatorsnetwork.com/event/build-an-ai-workflow-that-saves-you-time-as-a-founder/
CATEGORIES:AI,In person
ATTACH;FMTTYPE=image/png:https://digitalcreatorsnetwork.com/wp-content/uploads/2026/02/MITIH-Aideation-19x9-1.png
END:VEVENT
BEGIN:VEVENT
DTSTART;TZID=+00:00:20260217T180000
DTEND;TZID=+00:00:20260217T200000
DTSTAMP:20260426T015843
CREATED:20260217T123348Z
LAST-MODIFIED:20260217T123436Z
UID:10000033-1771351200-1771358400@digitalcreatorsnetwork.com
SUMMARY:Building with Generative AI: The Tricks and Tips You Need to Avoid Pitfalls
DESCRIPTION:**Title of talk:** Building with Generative AI: The Tricks and Tips You Need to Avoid Common Pitfalls\, by Ian Massingham\n\n**Abstract:**\nIn this talk\, you will learn about some of the common challenges that you might encounter while developing meaningful applications with generative AI models. Using non-deterministic systems as the basis for important applications is certainly an ‘interesting’ new frontier for software development\, but hope is not lost. In this session\, we will explore some of the well known (and less well known) issues in building applications on the APIs provided by Generative AI providers\, and on ‘open’ models\, such as Mistral\, Llama\, or DeepSeek. We will also (of course) dive into some of the approaches that you can take to address these challenges\, including agent/MCP integration and graph-based memory\, mitigating some of the inherent behaviors within Generative AI models\, and enabling you to build more reliable and robust systems on top of Generative models\, unlocking the potential of this new development paradigm.\n\n**Professional Bio:**\n\nIan Massingham is a seasoned technology executive with extensive experience in cloud computing\, data technology\, startups\, and developer relations. He is currently with Griptape\, an early stage startup focusing on agentic AI and LLM application development. Prior to 2021\, Ian spent nearly eight years at AWS\, joining the company in December 2013\, before AWS had gained significant enterprise adoption in Europe. During his tenure at AWS\, Ian held various roles in Developer Relations and Evangelism\, starting in this function and moving into a worldwide leadership position as Global Director\, Worldwide Solutions Architecture for Startups.
URL:https://digitalcreatorsnetwork.com/event/building-with-generative-ai-the-tricks-and-tips-you-need-to-avoid-pitfalls/
LOCATION:Cross Street Chapel\, Cross Street Manchester\, Manchester M2 1NL\, United Kingdom
CATEGORIES:AI
ATTACH;FMTTYPE=image/jpeg:https://digitalcreatorsnetwork.com/wp-content/uploads/2026/02/1024x576-26iGUA.jpg
GEO:53.481342;-2.244478
X-APPLE-STRUCTURED-LOCATION;VALUE=URI;X-ADDRESS=Cross Street Chapel Cross Street Manchester Manchester M2 1NL United Kingdom;X-APPLE-RADIUS=500;X-TITLE=Cross Street Manchester:geo:-2.244478,53.481342
END:VEVENT
BEGIN:VEVENT
DTSTART;TZID=Europe/London:20260203T083000
DTEND;TZID=Europe/London:20260204T170000
DTSTAMP:20260426T015844
CREATED:20260115T193814Z
LAST-MODIFIED:20260115T194348Z
UID:10000018-1770107400-1770224400@digitalcreatorsnetwork.com
SUMMARY:Master AI Applications Workshop to Overcome Sales and Marketing Challenges
DESCRIPTION:SPARK SALFORD AI is a 2-day fully funded\, hands-on workshop designed to help established Salford-based businesses overcome their biggest sales and marketing challenges using AI. Phase 1: 2-Day Expert Workshop – Work with specialists to diagnose your top challenges\, audit your tools\, and design AI use cases that drive measurable results. You’ll leave with: A clear roadmap for AI integration\, A prioritised list of pilots with KPIs\, Practical playbooks and prompts for campaigns and sales motions. Phase 2: 30-Day Implementation Sprint – Selected businesses receive expert support to deploy AI tools and deliver quick wins—within 30 days. We’ll help you integrate\, test\, and optimise solutions that improve conversion\, reduce costs\, and boost ROI. What You’ll Gain: Practical insights into AI applications for sales and marketing\, A tailored roadmap and implementation plan\, Expert guidance to validate and scale your AI solution\, Access to a network of innovators and mentors. Who Can Join: We’re looking for 12 established businesses in Salford ready to lead with AI. Each business will need to be represented by 2 decision makers and able to commit time to implement the tailored solution within 30 days. \n\nOriginal event page: https://www.eventbrite.co.uk/e/master-ai-applications-workshop-to-overcome-sales-and-marketing-challenges-tickets-1979516309569
URL:https://digitalcreatorsnetwork.com/event/master-ai-applications-workshop-to-overcome-sales-and-marketing-challenges/
LOCATION:HOST Salford\, MediaCity UK\, Salford\, England\, M50 2ST\, United Kingdom
CATEGORIES:AI,In person
ATTACH;FMTTYPE=image/webp:https://digitalcreatorsnetwork.com/wp-content/uploads/2026/01/image.webp
ORGANIZER;CN="MediaCity Immersive Technologies Innovation Hub":MAILTO:innovation@mediacityuk.co.uk
END:VEVENT
BEGIN:VEVENT
DTSTART;TZID=Europe/London:20260129T170000
DTEND;TZID=Europe/London:20260129T203000
DTSTAMP:20260426T015844
CREATED:20260115T224834Z
LAST-MODIFIED:20260115T224836Z
UID:10000024-1769706000-1769718600@digitalcreatorsnetwork.com
SUMMARY:AI Data Hive: Manchester #2
DESCRIPTION:**Manchester’s AI & Data Hive is already buzzing — and we’re ready for event #2!** We’re thrilled to announce the next step in building Manchester’s home for data professionals\, innovators\, and practitioners in AI and Data. \n🟢 **Dive deeper** into fresh perspectives from industry voices and hands-on experts.\n🟢 **Expand your thinking** through lively discussions and idea-sharing with fellow enthusiasts.\n🟢 **Connect and recharge** over pizza\, drinks\, and a welcoming community atmosphere. \nWhether you’re joining us for your first Hive or catching the buzz for the next one\, this series is all about shaping a vibrant\, collaborative community for AI and Data across Manchester. \n**The Hive is growing — come be part of the journey!** 🐝✨ \n**Speakers:**\nAshraf Murtada – CEO Evidentia AI (https://www.linkedin.com/in/amurtada/) \nWho will be presenting on “Knowledge 3.0: Knowledge Management in the Age of AI.” \n**One more speaker to be confirmed!** \nIf you would like to present at an AI Data Hive\, please contact Joe via private message or email community@matillion.com \n\nOriginal event page: https://www.meetup.com/ai-data-hive-manchester/events/312150042/?eventOrigin=home_page_upcoming_events%24all
URL:https://digitalcreatorsnetwork.com/event/ai-data-hive-manchester-2/
LOCATION:Matillion\, Two\, New Bailey St\, Salford\, M3 5GS\, United Kingdom
CATEGORIES:AI,In person
ATTACH;FMTTYPE=image/jpeg:https://digitalcreatorsnetwork.com/wp-content/uploads/2026/01/600_531470857.jpeg
END:VEVENT
BEGIN:VEVENT
DTSTART;TZID=Europe/London:20260122T130000
DTEND;TZID=Europe/London:20260122T133000
DTSTAMP:20260426T015844
CREATED:20260115T203059Z
LAST-MODIFIED:20260115T203101Z
UID:10000023-1769086800-1769088600@digitalcreatorsnetwork.com
SUMMARY:AI-Driven Testing: Revolutionising QA in Ecommerce
DESCRIPTION:Discover how AI-driven testing helps ecommerce brands reduce operational costs\, accelerate product launches\, and raise the bar on quality. This session explores how automated testing can revolutionise ecommerce software delivery and help brands stay ahead in a competitive market. Ideal for growth-focused digital teams\, this webinar will show you how to streamline QA processes and see real ROI. We’ll also explore how AI agents and self-healing tests minimise production bugs\, protect revenue\, and empower your teams to innovate faster. Join us on Thursday\, January 22nd to learn how to transform the way your team delivers software and improves the user experience. \n\nOriginal event page: https://www.eventbrite.co.uk/e/ai-driven-testing-revolutionising-qa-in-ecommerce-tickets-1977913854583?aff=ebdssbdestsearch
URL:https://digitalcreatorsnetwork.com/event/ai-driven-testing-revolutionising-qa-in-ecommerce/
CATEGORIES:AI,Virtual
ATTACH;FMTTYPE=image/jpeg:https://digitalcreatorsnetwork.com/wp-content/uploads/2026/01/logo.20251215-164444
END:VEVENT
BEGIN:VEVENT
DTSTART;TZID=Europe/London:20250522T091500
DTEND;TZID=Europe/London:20250522T171500
DTSTAMP:20260426T015844
CREATED:20260126T140516Z
LAST-MODIFIED:20260126T140519Z
UID:10000028-1747905300-1747934100@digitalcreatorsnetwork.com
SUMMARY:Create With_: The UK's Leading AI and Visual Development Conference
DESCRIPTION:The UK’s leading AI and Visual Development Conference ***SOLD OUT*** Join us for the Create With Conference\, the UK’s leading AI and Visual Development conference\, on May 22nd\, 2025\, at Plexal in the vibrant heart of London’s tech hub\, Here East. A day packed with insightful talks for companies looking to move faster with automation and AI product development. Experience workshops\, and connect with over 200 new friends building\, operating\, and growing in the AI & Visual Development community. This premier event is designed for non-technical developers\, freelancers\, educators\, agency owners\, and anyone passionate about the future of technology without needing to write a line of code! Keynote from Jonas Templestein\, Founder of iterate.com (prev Monzo)\, 15+ breakout sessions from business leads sharing their first hand insight and technical tips building with AI\, lunch + coffee & tea throughout the day\, networking with 200+ AI enthusiasts\, access to exclusive canal-side Create With Afterparty\, and bonus access to Wednesday + Friday community socials. \n\nOriginal event page: https://luma.com/createwith2025
URL:https://digitalcreatorsnetwork.com/event/create-with_-the-uks-leading-ai-and-visual-development-conference/
LOCATION:Plexal\, Here East\, Queen Elizabeth Olympic Park\,\, London\, E15 2GW\, United Kingdom
CATEGORIES:AI,In person
ATTACH;FMTTYPE=image/png:https://digitalcreatorsnetwork.com/wp-content/uploads/2026/01/992b8cb0-1fba-4a90-8718-9a21eee9d9e4.png
END:VEVENT
END:VCALENDAR